BEGIN:VCALENDAR
VERSION:2.0
PRODID:EVENTFROG//EVENT//ICAL
BEGIN:VEVENT
UID:20260424T080042Z-7441937929449032398@eventfrog.at
DTSTAMP:20260424T080042Z
DTSTART:20260530T120000Z
DTEND:20260530T200000Z
SUMMARY:Tanz dich Glücklich @ Lumen Park
DESCRIPTION:Tanz dich glücklich - what else ;-)\n\nhttps://eventfrog.at/de/p/partys/house-techno/tanz-dich-gluecklich-lumen-park-7441937929449032398.html
LOCATION:Lumen Park Schenkon
GEO:47.183669;8.111160
URL:https://eventfrog.at/de/p/partys/house-techno/tanz-dich-gluecklich-lumen-park-7441937929449032398.html
END:VEVENT
END:VCALENDAR