BEGIN:VCALENDAR
VERSION:2.0
PRODID:EVENTFROG//EVENT//ICAL
BEGIN:VEVENT
UID:20260425T201045Z-7441821509146949885@eventfrog.at
DTSTAMP:20260425T201045Z
DTSTART:20260520T110000Z
DTEND:20260520T163000Z
SUMMARY:4. Gründermesse 2026
DESCRIPTION:Die Gründermesse Aschaffenburg am 20. Mai bietet über 30 Aussteller, GründerinnenTalk, NextGen AI und Speed-Networking.\n\nhttps://eventfrog.at/de/p/messen/messe/4-gruendermesse-2026-7441821509146949885.html
LOCATION:Verlag und Druckerei Main-Echo GmbH & Co. KG
GEO:49.988520;9.164110
URL:https://eventfrog.at/de/p/messen/messe/4-gruendermesse-2026-7441821509146949885.html
END:VEVENT
END:VCALENDAR