BEGIN:VCALENDAR
VERSION:2.0
PRODID:EVENTFROG//EVENT//ICAL
BEGIN:VEVENT
UID:20260424T230004Z-7441783966376453151@eventfrog.at
DTSTAMP:20260424T230004Z
DTSTART:20260918T180000Z
DTEND:20260918T200000Z
SUMMARY:Barbara Hutzenlaub - Sprechstunde
DESCRIPTION:Das Gesundheitswesen kränkelt. Ich kann helfen!\n\n\nhttps://eventfrog.at/de/p/theater-buehne/comedy-kabarett/barbara-hutzenlaub-sprechstunde-7441783966376453151.html
LOCATION:Theater Fauteuil - Tabourettli
GEO:47.557349;7.586407
URL:https://eventfrog.at/de/p/theater-buehne/comedy-kabarett/barbara-hutzenlaub-sprechstunde-7441783966376453151.html
END:VEVENT
END:VCALENDAR