BEGIN:VCALENDAR
VERSION:2.0
PRODID:EVENTFROG//EVENT//ICAL
BEGIN:VEVENT
UID:20260421T161707Z-7441564659688195773@eventfrog.at
DTSTAMP:20260421T161707Z
DTSTART:20260528T141500Z
DTEND:20260528T144500Z
SUMMARY:Warum schlafen blinde Menschen anders?
DESCRIPTION:Dipl.-Psych. Werner Cassel erklärt die Funktion der Inneren Uhr und Lichtmangelbehandlung bei Blinden.\n\nhttps://eventfrog.at/de/p/fuehrungen-vortraege/vortrag/warum-schlafen-blinde-menschen-anders-7441564659688195773.html
LOCATION:Hybrid - Online oder Kap Europa, Frankfurt a.M.
URL:https://eventfrog.at/de/p/fuehrungen-vortraege/vortrag/warum-schlafen-blinde-menschen-anders-7441564659688195773.html
END:VEVENT
END:VCALENDAR