BEGIN:VCALENDAR
VERSION:2.0
PRODID:EVENTFROG//EVENT//ICAL
BEGIN:VEVENT
UID:20260421T161530Z-7441556377724567580@eventfrog.at
DTSTAMP:20260421T161530Z
DTSTART:20260528T121500Z
DTEND:20260528T124500Z
SUMMARY:Sexuelle Gewalt gegen sehbehinderten Kindern & Jugendlichen
DESCRIPTION:Prof. Dr. Julia Gebrande referiert über sexuelle Gewalt an sehbehinderten Kindern und Aufarbeitungsarbeit der Kommission.\n\nhttps://eventfrog.at/de/p/fuehrungen-vortraege/vortrag/sexuelle-gewalt-gegen-sehbehinderten-kindern-jugendlichen-7441556377724567580.html
LOCATION:Hybrid - Online oder Kap Europa, Frankfurt a.M.
URL:https://eventfrog.at/de/p/fuehrungen-vortraege/vortrag/sexuelle-gewalt-gegen-sehbehinderten-kindern-jugendlichen-7441556377724567580.html
END:VEVENT
END:VCALENDAR