BEGIN:VCALENDAR
VERSION:2.0
PRODID:EVENTFROG//EVENT//ICAL
BEGIN:VEVENT
UID:20260421T191345Z-7441455081721978247@eventfrog.at
DTSTAMP:20260421T191345Z
DTSTART:20270220T180000Z
DTEND:20270220T220000Z
SUMMARY:Das perfekte ABBA Dinner Bad Berneck – Mädelsabend, Duoshow
DESCRIPTION:Das perfekte ABBA Dinner in Bad Berneck: Interaktive Dinnershow mit Live-Musik, den größten ABBA-Hits und Mehrgangmenü. Mitsingen, mitfeiern und genießen!\n\nhttps://eventfrog.at/de/p/konzerte/pop-rock/das-perfekte-abba-dinner-bad-berneck-maedelsabend-duoshow-7441455081721978247.html
LOCATION:Hotel Hartl´s Lindenmühle
GEO:50.050362;11.676472
URL:https://eventfrog.at/de/p/konzerte/pop-rock/das-perfekte-abba-dinner-bad-berneck-maedelsabend-duoshow-7441455081721978247.html
END:VEVENT
END:VCALENDAR