BEGIN:VCALENDAR
VERSION:2.0
PRODID:EVENTFROG//EVENT//ICAL
BEGIN:VEVENT
UID:20260421T192204Z-7441452756412439072@eventfrog.at
DTSTAMP:20260421T192204Z
DTSTART:20270123T180000Z
DTEND:20270123T220000Z
SUMMARY:Das perfekte ABBA Dinner Untergruppenbach –Live Show & Musik
DESCRIPTION:Das perfekte ABBA Dinner in Untergruppenbach: Interaktive Dinnershow mit Live-Musik, den größten ABBA-Hits und Mehrgangmenü. Mitsingen, mitfeiern und genießen!\n\nhttps://eventfrog.at/de/p/konzerte/pop-rock/das-perfekte-abba-dinner-untergruppenbach-live-show-musik-7441452756412439072.html
LOCATION:Burg Stettenfels 
GEO:49.091326;9.276028
URL:https://eventfrog.at/de/p/konzerte/pop-rock/das-perfekte-abba-dinner-untergruppenbach-live-show-musik-7441452756412439072.html
END:VEVENT
END:VCALENDAR