BEGIN:VCALENDAR
VERSION:2.0
PRODID:EVENTFROG//EVENT//ICAL
BEGIN:VEVENT
UID:20260421T191606Z-7441443634698786924@eventfrog.at
DTSTAMP:20260421T191606Z
DTSTART:20261212T180000Z
DTEND:20261212T220000Z
SUMMARY:Das perfekte ABBA Dinner Moosinning – Live Show & Musik
DESCRIPTION:Das perfekte ABBA Dinner in Moosinning: Interaktive Dinnershow mit Live-Musik, den größten ABBA-Hits und Mehrgangmenü. Mitsingen, mitfeiern und genießen!\n\nhttps://eventfrog.at/de/p/konzerte/pop-rock/das-perfekte-abba-dinner-moosinning-live-show-musik-7441443634698786924.html
LOCATION:Landgasthof Stangl
GEO:48.276939;11.791754
URL:https://eventfrog.at/de/p/konzerte/pop-rock/das-perfekte-abba-dinner-moosinning-live-show-musik-7441443634698786924.html
END:VEVENT
END:VCALENDAR