BEGIN:VCALENDAR
VERSION:2.0
PRODID:EVENTFROG//EVENT//ICAL
BEGIN:VEVENT
UID:20260421T161709Z-7441406626794349673@eventfrog.at
DTSTAMP:20260421T161709Z
DTSTART:20260528T101500Z
DTEND:20260528T104500Z
SUMMARY:Taubblindenwerk: Ein Tag im Leben taubblinder Menschen
DESCRIPTION:Inez Aschenbrenner bietet Einblick in den Alltag taubblinder Personen und ihre Förderung im Deutschen Taubblindenwerk.\n\nhttps://eventfrog.at/de/p/fuehrungen-vortraege/vortrag/taubblindenwerk-ein-tag-im-leben-taubblinder-menschen-7441406626794349673.html
LOCATION:Hybrid - Online oder Kap Europa, Frankfurt a.M.
URL:https://eventfrog.at/de/p/fuehrungen-vortraege/vortrag/taubblindenwerk-ein-tag-im-leben-taubblinder-menschen-7441406626794349673.html
END:VEVENT
END:VCALENDAR