BEGIN:VCALENDAR
VERSION:2.0
PRODID:EVENTFROG//EVENT//ICAL
BEGIN:VEVENT
UID:20260426T032530Z-7441360129025415856@eventfrog.at
DTSTAMP:20260426T032530Z
DTSTART:20260430T170000Z
DTEND:20260430T220000Z
SUMMARY:Tanz in den Mai Party
DESCRIPTION:Am 30.04.2026 steigt ab 19 Uhr in der Oesterhalle Plettenberg die Tanz in den Mai Party mit DJ von ESTA LOCA Entertainment.\n\nhttps://eventfrog.at/de/p/partys/disco/tanz-in-den-mai-party-7441360129025415856.html
LOCATION:Oesterhalle
GEO:51.181600;7.858140
URL:https://eventfrog.at/de/p/partys/disco/tanz-in-den-mai-party-7441360129025415856.html
END:VEVENT
END:VCALENDAR