BEGIN:VCALENDAR
VERSION:2.0
PRODID:EVENTFROG//EVENT//ICAL
BEGIN:VEVENT
UID:20260421T161707Z-7441206905249222824@eventfrog.at
DTSTAMP:20260421T161707Z
DTSTART:20260527T101500Z
DTEND:20260527T104500Z
SUMMARY:TINKA – Wohnen für taubblinde Menschen in NRW
DESCRIPTION:TINKA informiert über Assistenzleistungen für taubblinde Menschen in NRW, die Selbstbestimmung und soziale Teilhabe im Wohnraum fördern.\n\nhttps://eventfrog.at/de/p/fuehrungen-vortraege/vortrag/tinka-wohnen-fuer-taubblinde-menschen-in-nrw-7441206905249222824.html
LOCATION:Hybrid - Online oder Kap Europa, Frankfurt a.M.
URL:https://eventfrog.at/de/p/fuehrungen-vortraege/vortrag/tinka-wohnen-fuer-taubblinde-menschen-in-nrw-7441206905249222824.html
END:VEVENT
END:VCALENDAR