BEGIN:VCALENDAR
VERSION:2.0
PRODID:EVENTFROG//EVENT//ICAL
BEGIN:VEVENT
UID:20260421T161708Z-7441167079976227414@eventfrog.at
DTSTAMP:20260421T161708Z
DTSTART:20260527T094500Z
DTEND:20260527T101500Z
SUMMARY:TBA: Von Antragstellung bis zur regelmäßigen Unterstützung
DESCRIPTION:Die Hessische Beratungsstelle informiert über Taubblindenassistenz von Antragsstellung bis zur Unterstützung für soziale Teilhabe.\n\nhttps://eventfrog.at/de/p/fuehrungen-vortraege/vortrag/tba-von-antragstellung-bis-zur-regelmaessigen-unterstuetzung-7441167079976227414.html
LOCATION:Hybrid - Online oder Kap Europa, Frankfurt a.M.
URL:https://eventfrog.at/de/p/fuehrungen-vortraege/vortrag/tba-von-antragstellung-bis-zur-regelmaessigen-unterstuetzung-7441167079976227414.html
END:VEVENT
END:VCALENDAR