BEGIN:VCALENDAR
VERSION:2.0
PRODID:EVENTFROG//EVENT//ICAL
BEGIN:VEVENT
UID:20260424T202925Z-7440784750745283311@eventfrog.at
DTSTAMP:20260424T202925Z
DTSTART:20260729T173000Z
DTEND:20260729T200000Z
SUMMARY:HUSKIES im Herzen - Dokumentarfilmvorführung
DESCRIPTION:Der Film « HUSKIES IM HERZEN » zeigt authentisch das Leben des ausgewanderten Schweizers und seiner Familie mit ihren 28 Huskies im Schwedischen Lappland.\n\nhttps://eventfrog.at/de/p/freizeit-ausfluege/film-kino/huskies-im-herzen-dokumentarfilmvorfuehrung-7440784750745283311.html
LOCATION:Titthof Chur
GEO:46.855320;9.528690
URL:https://eventfrog.at/de/p/freizeit-ausfluege/film-kino/huskies-im-herzen-dokumentarfilmvorfuehrung-7440784750745283311.html
END:VEVENT
END:VCALENDAR