BEGIN:VCALENDAR
VERSION:2.0
PRODID:EVENTFROG//EVENT//ICAL
BEGIN:VEVENT
UID:20260422T182826Z-7440479497957196896@eventfrog.at
DTSTAMP:20260422T182826Z
DTSTART:20260425T080000Z
DTEND:20260425T100000Z
SUMMARY:Selbstverkäuferflohmarkt
DESCRIPTION:Selbstverkäuferflohmarkt in der Aula. Alles Rund ums Kind. Spielsachen, Bücher, Kleidung usw.\n\nhttps://eventfrog.at/de/p/maerkte/flohmarkt/selbstverkaeuferflohmarkt-7440479497957196896.html
LOCATION:Grund und Mittelschule
GEO:47.901060;11.448471
URL:https://eventfrog.at/de/p/maerkte/flohmarkt/selbstverkaeuferflohmarkt-7440479497957196896.html
END:VEVENT
END:VCALENDAR