BEGIN:VCALENDAR
VERSION:2.0
PRODID:EVENTFROG//EVENT//ICAL
BEGIN:VEVENT
UID:20260421T094820Z-7440342298079049183@eventfrog.at
DTSTAMP:20260421T094820Z
DTSTART:20260424T180000Z
DTEND:20260424T203000Z
SUMMARY:Doris Reichenauer "Jetzt hat's gschnacklt..."
DESCRIPTION:Doris Reichenauer nimmt in ihrem Programm «Jetzt hat's gschnacklt…» humorvoll den Alltag und die Lebensmitte ins Visier - frech, witzig und herrlich authentisch\n\nhttps://eventfrog.at/de/p/theater-buehne/comedy-kabarett/doris-reichenauer-jetzt-hat-s-gschnacklt-7440342298079049183.html
LOCATION:Festhalle Althengstett
GEO:48.725478;8.793821
URL:https://eventfrog.at/de/p/theater-buehne/comedy-kabarett/doris-reichenauer-jetzt-hat-s-gschnacklt-7440342298079049183.html
END:VEVENT
END:VCALENDAR