BEGIN:VCALENDAR
VERSION:2.0
PRODID:EVENTFROG//EVENT//ICAL
BEGIN:VEVENT
UID:20260422T011512Z-7440270407914010210@eventfrog.at
DTSTAMP:20260422T011512Z
DTSTART:20260423T170000Z
DTEND:20260423T183000Z
SUMMARY:Zwischen Tisch und Herz – Autorenlesung
DESCRIPTION:Bettina Ittermann (Herne) und Helmut Peters (Recklinghausen) lesen in Marl Lyrik, Aphorismen und Kurzprosa zu den Themen Essen und Trinken, Liebe und Beziehung, Mut und Hoffnung sowie Zeit und Geld.\n\nhttps://eventfrog.at/de/p/theater-buehne/lesung/zwischen-tisch-und-herz-autorenlesung-7440270407914010210.html
LOCATION:Buchhandlung Wystup
GEO:51.663497;7.130003
URL:https://eventfrog.at/de/p/theater-buehne/lesung/zwischen-tisch-und-herz-autorenlesung-7440270407914010210.html
END:VEVENT
END:VCALENDAR