BEGIN:VCALENDAR
VERSION:2.0
PRODID:EVENTFROG//EVENT//ICAL
BEGIN:VEVENT
UID:20260425T150920Z-7440136444851567020@eventfrog.at
DTSTAMP:20260425T150920Z
DTSTART:20260427T170000Z
DTEND:20260427T183000Z
SUMMARY:PSYCHEDELIC BREATH  - Frühjahrs - Release
DESCRIPTION:Atemsession mit dynamischer Technik und Musik für mehr Körperbewusstsein, innere Ruhe und verkörperte Entscheidungen.\n\nhttps://eventfrog.at/de/p/gesundheit-spiritualitaet/gesundheit-wohlbefinden/psychedelic-breath-fruehjahrs-release-7440136444851567020.html
LOCATION:Eiserfelder Str. 289
GEO:50.845792;7.987544
URL:https://eventfrog.at/de/p/gesundheit-spiritualitaet/gesundheit-wohlbefinden/psychedelic-breath-fruehjahrs-release-7440136444851567020.html
END:VEVENT
END:VCALENDAR