BEGIN:VCALENDAR
VERSION:2.0
PRODID:EVENTFROG//EVENT//ICAL
BEGIN:VEVENT
UID:20260422T192631Z-7439953692080511995@eventfrog.at
DTSTAMP:20260422T192631Z
DTSTART:20260627T130000Z
DTEND:20260627T160000Z
SUMMARY:Women's Mental Power Lab (Frauen-Workshop)
DESCRIPTION:Workshop für Frauen zur mentalen Stärkung mit Atemübungen, Meditation, Mind-Work und ätherischen Ölen am 27. Juni 2026 in Schotten-Eichelsachsen.\n\nhttps://eventfrog.at/de/p/gesundheit-spiritualitaet/gesundheit-wohlbefinden/women-s-mental-power-lab-frauen-workshop-7439953692080511995.html
LOCATION:a.w.a.n.a.t.a.
GEO:50.456860;9.126620
URL:https://eventfrog.at/de/p/gesundheit-spiritualitaet/gesundheit-wohlbefinden/women-s-mental-power-lab-frauen-workshop-7439953692080511995.html
END:VEVENT
END:VCALENDAR