BEGIN:VCALENDAR
VERSION:2.0
PRODID:EVENTFROG//EVENT//ICAL
BEGIN:VEVENT
UID:20260421T053744Z-7439586558288601621@eventfrog.at
DTSTAMP:20260421T053744Z
DTSTART:20260704T150000Z
DTEND:20260704T173000Z
SUMMARY:Die gestohlenen Farben - Tanzaufführung MÜNCHEN 2026
DESCRIPTION:Die TänzerInnen aus dem Kieferer & Kufsteiner Studio, zeigen endlich wieder ihr Können auf großer Bühne! Eine spannende Reise über den Broadway und die Straßen New Yorks.\n\nhttps://eventfrog.at/de/p/theater-buehne/tanz/die-gestohlenen-farben-tanzauffuehrung-muenchen-2026-7439586558288601621.html
LOCATION:Kulturzentrum Taufkirchen
GEO:48.045950;11.615710
URL:https://eventfrog.at/de/p/theater-buehne/tanz/die-gestohlenen-farben-tanzauffuehrung-muenchen-2026-7439586558288601621.html
END:VEVENT
END:VCALENDAR