BEGIN:VCALENDAR
VERSION:2.0
PRODID:EVENTFROG//EVENT//ICAL
BEGIN:VEVENT
UID:20260419T210118Z-7438359939045655061@eventfrog.at
DTSTAMP:20260419T210118Z
DTSTART:20260421T180000Z
SUMMARY:Daniel Luis: Hyperaktiv
DESCRIPTION:Standupcomedy.\n\nhttps://eventfrog.at/de/p/theater-buehne/daniel-luis-hyperaktiv-7438359939045655061.html
LOCATION:Schlösslekeller
GEO:47.129016;9.523827
URL:https://eventfrog.at/de/p/theater-buehne/daniel-luis-hyperaktiv-7438359939045655061.html
END:VEVENT
END:VCALENDAR