BEGIN:VCALENDAR
VERSION:2.0
PRODID:EVENTFROG//EVENT//ICAL
BEGIN:VEVENT
UID:20260419T212620Z-7437995647305804329@eventfrog.at
DTSTAMP:20260419T212620Z
DTSTART:20260421T180000Z
SUMMARY:Politfilm: Ein Viertel in unserer Stadt
DESCRIPTION:Doku über die Chérisy-Kaserne Konstanz.\n\nhttps://eventfrog.at/de/p/freizeit-ausfluege/politfilm-ein-viertel-in-unserer-stadt-7437995647305804329.html
LOCATION:Club Vaudeville
GEO:47.551382;9.722851
URL:https://eventfrog.at/de/p/freizeit-ausfluege/politfilm-ein-viertel-in-unserer-stadt-7437995647305804329.html
END:VEVENT
END:VCALENDAR