BEGIN:VCALENDAR
VERSION:2.0
PRODID:EVENTFROG//EVENT//ICAL
BEGIN:VEVENT
UID:20260424T072712Z-7437153166636882497@eventfrog.at
DTSTAMP:20260424T072712Z
DTSTART:20260426T090000Z
DTEND:20260426T130000Z
SUMMARY:Fischessen Fischereiverein Döttingen
DESCRIPTION:Fischessen mit Zanderfilets, regionalen Weinen und Fischerkaffee beim Fischereiverein Döttingen am 25. und 26. April 2026 im Fischzelt beim Botschaft-Gebäude.\n\nhttps://eventfrog.at/de/p/essen-trinken/fischessen-fischereiverein-doettingen-7437153166636882497.html
LOCATION:Döttingen
GEO:47.573737;8.256053
URL:https://eventfrog.at/de/p/essen-trinken/fischessen-fischereiverein-doettingen-7437153166636882497.html
END:VEVENT
END:VCALENDAR