BEGIN:VCALENDAR
VERSION:2.0
PRODID:EVENTFROG//EVENT//ICAL
BEGIN:VEVENT
UID:20260421T185944Z-7436720642651589621@eventfrog.at
DTSTAMP:20260421T185944Z
DTSTART:20260816T080000Z
DTEND:20260816T160000Z
SUMMARY:5th BOCHOLT classic meeting
DESCRIPTION:Oldtimertreffen \n\nhttps://eventfrog.at/de/p/freizeit-ausfluege/sonstige-veranstaltungen/5th-bocholt-classic-meeting-7436720642651589621.html
LOCATION:Festwiese Aasee
GEO:51.831490;6.629076
URL:https://eventfrog.at/de/p/freizeit-ausfluege/sonstige-veranstaltungen/5th-bocholt-classic-meeting-7436720642651589621.html
END:VEVENT
END:VCALENDAR