BEGIN:VCALENDAR
VERSION:2.0
PRODID:EVENTFROG//EVENT//ICAL
BEGIN:VEVENT
UID:20260425T120633Z-7434048673305104854@eventfrog.at
DTSTAMP:20260425T120633Z
DTSTART:20260822T120000Z
DTEND:20260822T150000Z
SUMMARY:First steps into MAGIC Workshop!
DESCRIPTION:Workshop vermittelt Grundlagen der Magie, Fokus auf Mindset und Illusionen, inklusive ein bis zwei Tricks und Handout für zuhause.\n\nhttps://eventfrog.at/de/p/kurse-seminare/kunst-kultur/first-steps-into-magic-workshop-7434048673305104854.html
LOCATION:Galerie HermyM
GEO:51.372984;7.704022
URL:https://eventfrog.at/de/p/kurse-seminare/kunst-kultur/first-steps-into-magic-workshop-7434048673305104854.html
END:VEVENT
END:VCALENDAR