BEGIN:VCALENDAR
VERSION:2.0
PRODID:EVENTFROG//EVENT//ICAL
BEGIN:VEVENT
UID:20260420T024823Z-7433135098550059443@eventfrog.at
DTSTAMP:20260420T024823Z
DTSTART:20260422T170000Z
DTEND:20260422T200000Z
SUMMARY:AMELIE FRIED: EINE VON UNS ERLESEN!-LITERATURTAGE
DESCRIPTION:Amelie Fried erzählt von Nellys Absturz aus Wohlstand und ihrem mutigen Neubeginn nach dem Schicksalsschlag ihres Mannes.\n\nhttps://eventfrog.at/de/p/theater-buehne/lesung/amelie-fried-eine-von-uns-erlesen-literaturtage-7433135098550059443.html
LOCATION:Theater am Ring
GEO:49.312153;6.750438
URL:https://eventfrog.at/de/p/theater-buehne/lesung/amelie-fried-eine-von-uns-erlesen-literaturtage-7433135098550059443.html
END:VEVENT
END:VCALENDAR