BEGIN:VCALENDAR
VERSION:2.0
PRODID:EVENTFROG//EVENT//ICAL
BEGIN:VEVENT
UID:20260422T095249Z-7432797782337935659@eventfrog.at
DTSTAMP:20260422T095249Z
DTSTART:20260606T160000Z
DTEND:20260607T000000Z
SUMMARY:Ackerfestival Heescht 2026
DESCRIPTION:Das Ackerfestival Heescht verwandelt eine Wiese bei Hainstadt von 4.-6.6. in ein Open-Air mit Biergarten, EDM-Beats und Schlagermusik.\n\nhttps://eventfrog.at/de/p/festivals/weitere-festivals/ackerfestival-heescht-2026-7432797782337935659.html
LOCATION:AFH Gelände
GEO:49.565862;9.329209
URL:https://eventfrog.at/de/p/festivals/weitere-festivals/ackerfestival-heescht-2026-7432797782337935659.html
END:VEVENT
END:VCALENDAR