BEGIN:VCALENDAR
VERSION:2.0
PRODID:EVENTFROG//EVENT//ICAL
BEGIN:VEVENT
UID:20260421T121025Z-7432502826662671569@eventfrog.at
DTSTAMP:20260421T121025Z
DTSTART:20261009T180000Z
DTEND:20261009T210000Z
SUMMARY:LIZharmonic Theater DAS BAUMANN
DESCRIPTION:LIZharmonic steht für handgemachte Live-Musik und grenzenlose Spielfreude. Mit viel Liebe zum Detail präsentiert dieses Trio einzigartige Acoustic-Arrangements von Meilensteinen der Pop- & Soulmusik.\n\nhttps://eventfrog.at/de/p/konzerte/pop-rock/lizharmonic-theater-das-baumann-7432502826662671569.html
LOCATION:Theater DAS BAUMANN
GEO:50.123200;11.439219
URL:https://eventfrog.at/de/p/konzerte/pop-rock/lizharmonic-theater-das-baumann-7432502826662671569.html
END:VEVENT
END:VCALENDAR