BEGIN:VCALENDAR
VERSION:2.0
PRODID:EVENTFROG//EVENT//ICAL
BEGIN:VEVENT
UID:20260422T181914Z-7432365449906525751@eventfrog.at
DTSTAMP:20260422T181914Z
DTSTART:20260425T090000Z
DTEND:20260425T150000Z
SUMMARY:Moveat - Düsseldorf Oberbilk
DESCRIPTION:Moveat Original: Entdeckt neue kulinarische Highlights und spannende Orte mit Freunden, Familie oder Kollegen. App zeigt den Weg zu 6-8 Stopps mit inkludierten Probiertellern.\n\nhttps://eventfrog.at/de/p/essen-trinken/moveat-duesseldorf-oberbilk-7432365449906525751.html
LOCATION:.
URL:https://eventfrog.at/de/p/essen-trinken/moveat-duesseldorf-oberbilk-7432365449906525751.html
END:VEVENT
END:VCALENDAR