BEGIN:VCALENDAR
VERSION:2.0
PRODID:EVENTFROG//EVENT//ICAL
BEGIN:VEVENT
UID:20260425T163520Z-7430325029957534670@eventfrog.at
DTSTAMP:20260425T163520Z
DTSTART:20260726T083000Z
DTEND:20260726T153000Z
SUMMARY:offenes Waldhaus
DESCRIPTION:Die Wirtschaft zum "offenen Waldhaus " lädt Personen von nah und fern zum geselligen Zusammensein ein. Der Anlass findet bei jeder Witterung statt.\n\nhttps://eventfrog.at/de/p/essen-trinken/offenes-waldhaus-7430325029957534670.html
LOCATION:Waldhaus Riniken
GEO:47.494557;8.173634
URL:https://eventfrog.at/de/p/essen-trinken/offenes-waldhaus-7430325029957534670.html
END:VEVENT
END:VCALENDAR