BEGIN:VCALENDAR
VERSION:2.0
PRODID:EVENTFROG//EVENT//ICAL
BEGIN:VEVENT
UID:20260425T191807Z-7429294070130862800@eventfrog.at
DTSTAMP:20260425T191807Z
DTSTART:20260506T183000Z
SUMMARY:Bullaugenkonzert # 132 - Sam Himself
DESCRIPTION:Bullaugenkonzert # 132 - Sam Himself\n\nhttps://eventfrog.at/de/p/konzerte/bullaugenkonzert-132-sam-himself-7429294070130862800.html
LOCATION:Grabenhalle
GEO:47.427340;9.374160
URL:https://eventfrog.at/de/p/konzerte/bullaugenkonzert-132-sam-himself-7429294070130862800.html
END:VEVENT
END:VCALENDAR