BEGIN:VCALENDAR
VERSION:2.0
PRODID:EVENTFROG//EVENT//ICAL
BEGIN:VEVENT
UID:20260422T132012Z-7429194827235913166@eventfrog.at
DTSTAMP:20260422T132012Z
DTSTART:20260425T080000Z
DTEND:20260425T113000Z
SUMMARY:Workshop: BFRBs und Emotionen
DESCRIPTION:Workshop: BFRBs und Emotionen\n\nhttps://eventfrog.at/de/p/gesundheit-spiritualitaet/gesundheit-wohlbefinden/workshop-bfrbs-und-emotionen-7429194827235913166.html
LOCATION:Online event
URL:https://eventfrog.at/de/p/gesundheit-spiritualitaet/gesundheit-wohlbefinden/workshop-bfrbs-und-emotionen-7429194827235913166.html
END:VEVENT
END:VCALENDAR