BEGIN:VCALENDAR
VERSION:2.0
PRODID:EVENTFROG//EVENT//ICAL
BEGIN:VEVENT
UID:20260422T142153Z-7428769092335588412@eventfrog.at
DTSTAMP:20260422T142153Z
DTSTART:20260425T180000Z
DTEND:20260425T210000Z
SUMMARY:CÉCILE VERNY QUARTETT · Reutlingen · IN DER MITTE
DESCRIPTION:Das Cécile Verny Quartet begeistert mit einem unverwechselbaren Mix aus Chanson, Jazz und afrikanischen Einflüssen.\n\nhttps://eventfrog.at/de/p/konzerte/jazz-blues/cecile-verny-quartett-reutlingen-in-der-mitte-7428769092335588412.html
LOCATION:JAZZclub IN DER MITTE
GEO:48.492234;9.214483
URL:https://eventfrog.at/de/p/konzerte/jazz-blues/cecile-verny-quartett-reutlingen-in-der-mitte-7428769092335588412.html
END:VEVENT
END:VCALENDAR