BEGIN:VCALENDAR
VERSION:2.0
PRODID:EVENTFROG//EVENT//ICAL
BEGIN:VEVENT
UID:20260424T083013Z-7427010040991643121@eventfrog.at
DTSTAMP:20260424T083013Z
DTSTART:20260506T210000Z
DTEND:20260507T040000Z
SUMMARY:Intercantonal 2000's Party
DESCRIPTION:Intercantonal 2000's Party - HSG Edition. Am 06.05.2026 laden sechs Kantonsvereinen der Universität St. Gallen im DEZENT. zu nostalgischer Musik, guter Stimmung und Hits der 00's & 10's ein! \n\nhttps://eventfrog.at/de/p/partys/00-s/intercantonal-2000-s-party-7427010040991643121.html
LOCATION:DEZENT.
GEO:47.425361;9.373692
URL:https://eventfrog.at/de/p/partys/00-s/intercantonal-2000-s-party-7427010040991643121.html
END:VEVENT
END:VCALENDAR