BEGIN:VCALENDAR
VERSION:2.0
PRODID:EVENTFROG//EVENT//ICAL
BEGIN:VEVENT
UID:20260423T003113Z-7426549054992061338@eventfrog.at
DTSTAMP:20260423T003113Z
DTSTART:20260425T170000Z
DTEND:20260425T213000Z
SUMMARY:Sportlerball 2026
DESCRIPTION:In Limbach-Oberfrohna ehren Stadthalle und Stadt im April aktive Sportler aller Ligen / Altersklassen mit dem Sportlerball.\n\nhttps://eventfrog.at/de/p/diverses/sportlerball-2026-7426549054992061338.html
LOCATION:Stadthalle Limbach-Oberfrohna
GEO:50.858810;12.767140
URL:https://eventfrog.at/de/p/diverses/sportlerball-2026-7426549054992061338.html
END:VEVENT
END:VCALENDAR