BEGIN:VCALENDAR
VERSION:2.0
PRODID:EVENTFROG//EVENT//ICAL
BEGIN:VEVENT
UID:20260424T122300Z-7425522361175139851@eventfrog.at
DTSTAMP:20260424T122300Z
DTSTART:20260506T173000Z
DTEND:20260506T200000Z
SUMMARY:Daniel Speck - Villa Rivolta
DESCRIPTION:Daniel Speck erzählt in »Villa Rivolta« von Freundschaft, Liebe und Geheimnissen im Italien der sechziger Jahre.\n\nhttps://eventfrog.at/de/p/theater-buehne/lesung/daniel-speck-villa-rivolta-7425522361175139851.html
LOCATION:BücherBiene
GEO:53.693970;10.027358
URL:https://eventfrog.at/de/p/theater-buehne/lesung/daniel-speck-villa-rivolta-7425522361175139851.html
END:VEVENT
END:VCALENDAR