BEGIN:VCALENDAR
VERSION:2.0
PRODID:EVENTFROG//EVENT//ICAL
BEGIN:VEVENT
UID:20260424T115336Z-7424201069968756168@eventfrog.at
DTSTAMP:20260424T115336Z
DTSTART:20260708T071500Z
DTEND:20260708T081500Z
SUMMARY:Spiralmuskeltraining – regelmässige Übungsstunden
DESCRIPTION:Regelmässige Spiralmuskeltraining-Stunden vertiefen Haltung, Koordination und Körpergefühl nach Dr. R. Smíšek. Voraussetzung: Grundkurs.\n\nhttps://eventfrog.at/de/p/gesundheit-spiritualitaet/gesundheit-wohlbefinden/spiralmuskeltraining-regelmaessige-uebungsstunden-7424201069968756168.html
LOCATION:Gsundheitspraxis Kriech
GEO:47.067071;7.343919
URL:https://eventfrog.at/de/p/gesundheit-spiritualitaet/gesundheit-wohlbefinden/spiralmuskeltraining-regelmaessige-uebungsstunden-7424201069968756168.html
END:VEVENT
END:VCALENDAR