BEGIN:VCALENDAR
VERSION:2.0
PRODID:EVENTFROG//EVENT//ICAL
BEGIN:VEVENT
UID:20260423T003618Z-7424128149351342610@eventfrog.at
DTSTAMP:20260423T003618Z
DTSTART:20260423T173000Z
DTEND:20260423T200000Z
SUMMARY:Daniele Palu - Marconi und die schweigenden Lämmer
DESCRIPTION:Mordfall in St. Peter-Ording: Immobilienmakler wird in Schafskäsemanufaktur tot aufgefunden, Marconi ermittelt.\n\nhttps://eventfrog.at/de/p/theater-buehne/lesung/daniele-palu-marconi-und-die-schweigenden-laemmer-7424128149351342610.html
LOCATION:BücherBiene
GEO:53.693970;10.027358
URL:https://eventfrog.at/de/p/theater-buehne/lesung/daniele-palu-marconi-und-die-schweigenden-laemmer-7424128149351342610.html
END:VEVENT
END:VCALENDAR