BEGIN:VCALENDAR
VERSION:2.0
PRODID:EVENTFROG//EVENT//ICAL
BEGIN:VEVENT
UID:20260424T115256Z-7423829524335301123@eventfrog.at
DTSTAMP:20260424T115256Z
DTSTART:20260714T173000Z
DTEND:20260714T183000Z
SUMMARY:Spiralmuskeltraining – regelmässige Übungsstunden
DESCRIPTION:Regelmässige Spiralmuskeltraining-Stunden nach Dr. R. Smíšek fördern Haltung, Koordination und Körpergefühl.\n\nhttps://eventfrog.at/de/p/gesundheit-spiritualitaet/gesundheit-wohlbefinden/spiralmuskeltraining-regelmaessige-uebungsstunden-7423829524335301123.html
LOCATION:Gsundheitspraxis Kriech
GEO:47.067071;7.343919
URL:https://eventfrog.at/de/p/gesundheit-spiritualitaet/gesundheit-wohlbefinden/spiralmuskeltraining-regelmaessige-uebungsstunden-7423829524335301123.html
END:VEVENT
END:VCALENDAR