BEGIN:VCALENDAR
VERSION:2.0
PRODID:EVENTFROG//EVENT//ICAL
BEGIN:VEVENT
UID:20260422T113256Z-7422985920436021273@eventfrog.at
DTSTAMP:20260422T113256Z
DTSTART:20260503T083000Z
DTEND:20260503T163000Z
SUMMARY:An das wir uns festhalten
DESCRIPTION:Die Ausstellung «An das wir uns festhalten / Nothing As Our Ground» zeigt elf Positionen zu queeren und migrantischen Familienbildern.\n\nhttps://eventfrog.at/de/p/kunst-ausstellungen/ausstellung/an-das-wir-uns-festhalten-7422985920436021273.html
LOCATION:Humboldt Forum
GEO:52.517275;13.401640
URL:https://eventfrog.at/de/p/kunst-ausstellungen/ausstellung/an-das-wir-uns-festhalten-7422985920436021273.html
END:VEVENT
END:VCALENDAR