BEGIN:VCALENDAR
VERSION:2.0
PRODID:EVENTFROG//EVENT//ICAL
BEGIN:VEVENT
UID:20260422T113259Z-7421300580805529069@eventfrog.at
DTSTAMP:20260422T113259Z
DTSTART:20260503T083000Z
DTEND:20260503T163000Z
SUMMARY:Sich verwandt machen
DESCRIPTION:Die Ausstellung «Making Kin / Sich verwandt machen» zeigt internationale Künstlerinnen und Beziehungsnetze.\n\nhttps://eventfrog.at/de/p/kunst-ausstellungen/ausstellung/sich-verwandt-machen-7421300580805529069.html
LOCATION:Humboldt Forum
GEO:52.517275;13.401640
URL:https://eventfrog.at/de/p/kunst-ausstellungen/ausstellung/sich-verwandt-machen-7421300580805529069.html
END:VEVENT
END:VCALENDAR