BEGIN:VCALENDAR
VERSION:2.0
PRODID:EVENTFROG//EVENT//ICAL
BEGIN:VEVENT
UID:20260424T105344Z-7421184045126549391@eventfrog.at
DTSTAMP:20260424T105344Z
DTSTART:20260531T150000Z
DTEND:20260531T163000Z
SUMMARY:Impressions post-romantiques - DS Trio & Quartet
DESCRIPTION:Une conclusion de saison dans l’intimité de la musique de chambre de la fin du romantisme au post-romantisme. \nUn moment de paix intérieure et de méditation; une sorte d’hymne à l’amour et au respect.\n\nhttps://eventfrog.at/fr/p/concerts/autres-genres-musicaux/impressions-post-romantiques-ds-trio-quartet-7421184045126549391.html
LOCATION:Crêt-Bérard
GEO:46.494562;6.779139
URL:https://eventfrog.at/fr/p/concerts/autres-genres-musicaux/impressions-post-romantiques-ds-trio-quartet-7421184045126549391.html
END:VEVENT
END:VCALENDAR