BEGIN:VCALENDAR
VERSION:2.0
PRODID:EVENTFROG//EVENT//ICAL
BEGIN:VEVENT
UID:20260419T191310Z-7420842154757456057@eventfrog.at
DTSTAMP:20260419T191310Z
DTSTART:20260829T050000Z
DTEND:20260829T140000Z
SUMMARY:Flohmarkt in Mengen am Festplatz
DESCRIPTION:Flohmarkt mit Schmuck, Kleidung und Haushaltswaren am Samstag 7-16 Uhr \n\nhttps://eventfrog.at/de/p/maerkte/flohmarkt/flohmarkt-in-mengen-am-festplatz-7420842154757456057.html
LOCATION:Mengen Festplatz
GEO:48.046865;9.323290
URL:https://eventfrog.at/de/p/maerkte/flohmarkt/flohmarkt-in-mengen-am-festplatz-7420842154757456057.html
END:VEVENT
END:VCALENDAR