BEGIN:VCALENDAR
VERSION:2.0
PRODID:EVENTFROG//EVENT//ICAL
BEGIN:VEVENT
UID:20260426T002038Z-7420032229680646731@eventfrog.at
DTSTAMP:20260426T002038Z
DTSTART:20260425T180000Z
SUMMARY:Der kleine Prinz
DESCRIPTION:Das Theatrium Steinau zeigt «Der kleine Prinz» als liebevolles Figurentheater über Kindsein, Liebe und das Wesentliche im Leben.\n\nhttps://eventfrog.at/de/p/theater-buehne/theater/der-kleine-prinz-7420032229680646731.html
LOCATION:KulturHerberge
GEO:50.203362;9.187920
URL:https://eventfrog.at/de/p/theater-buehne/theater/der-kleine-prinz-7420032229680646731.html
END:VEVENT
END:VCALENDAR