BEGIN:VCALENDAR
VERSION:2.0
PRODID:EVENTFROG//EVENT//ICAL
BEGIN:VEVENT
UID:20260425T175152Z-7417479680935132237@eventfrog.at
DTSTAMP:20260425T175152Z
DTSTART:20260426T130000Z
DTEND:20260426T140000Z
SUMMARY:Großstadtengel - Kinderkonzert
DESCRIPTION:Mit ihren Hits wie „Klatsch Patsch Tanz“, „Kroko Mama“ oder dem „Trab Trab Einhorn“ bringen die beiden Sängerinnen Familien mit Kindern ab drei Jahren in Stimmung. Bei ihren Konzerten folgt Hit auf Hi\n\nhttps://eventfrog.at/de/p/kinderveranstaltungen/kindertheater/grossstadtengel-kinderkonzert-7417479680935132237.html
LOCATION:Albert-Einstein-Forum
GEO:51.224128;6.617205
URL:https://eventfrog.at/de/p/kinderveranstaltungen/kindertheater/grossstadtengel-kinderkonzert-7417479680935132237.html
END:VEVENT
END:VCALENDAR