BEGIN:VCALENDAR
VERSION:2.0
PRODID:EVENTFROG//EVENT//ICAL
BEGIN:VEVENT
UID:20260421T093346Z-7415858940909512284@eventfrog.at
DTSTAMP:20260421T093346Z
DTSTART:20260423T180000Z
DTEND:20260423T203000Z
SUMMARY:Erkan & Stefan Live
DESCRIPTION:Erkan & Stefan treten am 23. April 2026 zum 50-jährigen Jubiläum des Landgasthaus Sternen in Volkertshausen auf.\n\nhttps://eventfrog.at/de/p/theater-buehne/comedy-kabarett/erkan-stefan-live-7415858940909512284.html
LOCATION:Alte Kirche
GEO:47.821847;8.867972
URL:https://eventfrog.at/de/p/theater-buehne/comedy-kabarett/erkan-stefan-live-7415858940909512284.html
END:VEVENT
END:VCALENDAR