BEGIN:VCALENDAR
VERSION:2.0
PRODID:EVENTFROG//EVENT//ICAL
BEGIN:VEVENT
UID:20260426T021314Z-7404109336950098803@eventfrog.at
DTSTAMP:20260426T021314Z
DTSTART:20260430T160000Z
DTEND:20260430T200000Z
SUMMARY:Tanz in den Mai
DESCRIPTION:Tanz in den Mai\n\nhttps://eventfrog.at/de/p/partys/sonstige-partys/tanz-in-den-mai-7404109336950098803.html
LOCATION:Königliches Schleusenwärterhaus
GEO:51.421781;7.299041
URL:https://eventfrog.at/de/p/partys/sonstige-partys/tanz-in-den-mai-7404109336950098803.html
END:VEVENT
END:VCALENDAR