BEGIN:VCALENDAR
VERSION:2.0
PRODID:EVENTFROG//EVENT//ICAL
BEGIN:VEVENT
UID:20260422T113256Z-7402666725672513340@eventfrog.at
DTSTAMP:20260422T113256Z
DTSTART:20260427T083000Z
DTEND:20260427T163000Z
SUMMARY:Geschichte(n) Tansanias
DESCRIPTION:Sonderausstellung in Berlin über die kollaborative Entwicklungen zwischen Tansania und Deutschland, thematisiert die Kolonialgeschichte .\n\nhttps://eventfrog.at/de/p/kunst-ausstellungen/ausstellung/geschichte-n-tansanias-7402666725672513340.html
LOCATION:Humboldt Forum
GEO:52.517275;13.401640
URL:https://eventfrog.at/de/p/kunst-ausstellungen/ausstellung/geschichte-n-tansanias-7402666725672513340.html
END:VEVENT
END:VCALENDAR