BEGIN:VCALENDAR
VERSION:2.0
PRODID:EVENTFROG//EVENT//ICAL
BEGIN:VEVENT
UID:20260422T152631Z-7389225308270936719@eventfrog.at
DTSTAMP:20260422T152631Z
DTSTART:20260504T180000Z
DTEND:20260504T203000Z
SUMMARY:Reiner  Calmund - Ein runder Abend  mit Fußball & Freunden
DESCRIPTION:Reiner Calmund lädt zu einem besonderen Abend ein. Mit spannenden Geschichten und einem Überraschungsgast aus dem Sportbereich wird es leidenschaftlich, lustig und persönlich.\n\nhttps://eventfrog.at/de/p/theater-buehne/buehnenveranstaltung/reiner-calmund-ein-runder-abend-mit-fussball-freunden-7389225308270936719.html
LOCATION:Theater am Ring Saarlouis
GEO:49.313461;6.752286
URL:https://eventfrog.at/de/p/theater-buehne/buehnenveranstaltung/reiner-calmund-ein-runder-abend-mit-fussball-freunden-7389225308270936719.html
END:VEVENT
END:VCALENDAR