BEGIN:VCALENDAR
VERSION:2.0
PRODID:EVENTFROG//EVENT//ICAL
BEGIN:VEVENT
UID:20260421T173029Z-7381224950516994377@eventfrog.at
DTSTAMP:20260421T173029Z
DTSTART:20261121T190000Z
DTEND:20261121T213000Z
SUMMARY:Maffay Showband: Tribute an Peter Maffay
DESCRIPTION:Erleben Sie die professionelle Tribute Show mit den größten Hits aus "50 Jahren Maffay on Tour" - authentisch und unvergesslich!\n\nhttps://eventfrog.at/de/p/konzerte/pop-rock/maffay-showband-tribute-an-peter-maffay-7381224950516994377.html
LOCATION:Stadthalle Limbach-Oberfrohna
GEO:50.858810;12.767140
URL:https://eventfrog.at/de/p/konzerte/pop-rock/maffay-showband-tribute-an-peter-maffay-7381224950516994377.html
END:VEVENT
END:VCALENDAR