BEGIN:VCALENDAR
VERSION:2.0
PRODID:EVENTFROG//EVENT//ICAL
BEGIN:VEVENT
UID:20260426T011449Z-7369297919852199212@eventfrog.at
DTSTAMP:20260426T011449Z
DTSTART:20260509T180000Z
DTEND:20260509T200000Z
SUMMARY:Im Geschmack von sechs Nationen
DESCRIPTION:Barock pur: Larisch & Nyquist entfesseln mit Cello und Cembalo ein Panorama voller Glanz, Leidenschaft und Eleganz – Musikgenuss auf höchstem Niveau!\n\nhttps://eventfrog.at/de/p/klassik-opern/klassik/im-geschmack-von-sechs-nationen-7369297919852199212.html
LOCATION:Josefskirche - Hildboltsweier
GEO:48.456657;7.926396
URL:https://eventfrog.at/de/p/klassik-opern/klassik/im-geschmack-von-sechs-nationen-7369297919852199212.html
END:VEVENT
END:VCALENDAR